BEGIN:VCALENDAR
VERSION:2.0
PRODID:-//wp-events-plugin.com//6.6.4.4//EN
TZID:Europe/Paris
X-WR-TIMEZONE:Europe/Paris
BEGIN:VEVENT
UID:2@jobplus-industrie.fr
DTSTART;TZID=Europe/Paris:20240117T134500
DTEND;TZID=Europe/Paris:20240117T160000
DTSTAMP:20240408T073702Z
URL:https://www.jobplus-industrie.fr/agenda/les-premiers-pas-vers-lindustr
 ie
SUMMARY:Les Premiers pas vers l’industrie
DESCRIPTION:2h pour découvrir les métiers de l’industrie :\nDémonstrat
 ions et visite des plateaux techniques\n\nPré-inscription
CATEGORIES:Chalon-sur-Saône
LOCATION:Pôle formation UIMM\, 75 Grande rue Saint-Cosme\, Chalon-sur-Saô
 ne\, 71100\, France
X-APPLE-STRUCTURED-LOCATION;VALUE=URI;X-ADDRESS=75 Grande rue Saint-Cosme\,
  Chalon-sur-Saône\, 71100\, France;X-APPLE-RADIUS=100;X-TITLE=Pôle forma
 tion UIMM:geo:0,0
END:VEVENT
BEGIN:VTIMEZONE
TZID:Europe/Paris
X-LIC-LOCATION:Europe/Paris
BEGIN:STANDARD
DTSTART:20231029T020000
TZOFFSETFROM:+0200
TZOFFSETTO:+0100
TZNAME:CET
END:STANDARD
END:VTIMEZONE
END:VCALENDAR